BEGIN:VCALENDAR
VERSION:2.0
PRODID:http://www.4else.com
BEGIN:VEVENT
UID:405e8f278869b37da3a95921e7a28905
ORGANIZER:CN="Sven Kaiser"
LOCATION:Region Nordwestschweiz
SUMMARY:YC-Winterausfahrt 2024
DESCRIPTION:<span style="font-family: Arial, Helvetica, sans-serif; font-size: 15px; font-style: normal; font-variant-ligatures: normal; font-variant-caps: normal; font-weight: 400;">Die Anmeldung für diesen Anlass ist nur über dieses Anmeldetool möglich. Dies erleichtert die Arbeit für den Organisator erheblich. Danke für Deine Mithilfe.&nbsp;</span><div style="font-style: normal; font-variant-ligatures: normal; font-variant-caps: normal; font-weight: 400; font-size: 15px; font-family: Arial, Helvetica, sans-serif; min-height: 18px;"><br></div><div style="font-style: normal; font-variant-ligatures: normal; font-variant-caps: normal; font-weight: 400; font-size: 15px; font-family: Arial, Helvetica, sans-serif; min-height: 18px;">Beifahrer/Mitfahrer füllen eine eigene Anmeldung aus und tragen den Namen des Fahrers in das Feld "Ich fahre mit bei" ein.&nbsp;<br><div style="min-height: 18px;"><br></div><div style="min-height: 18px;">Sobald Du die Bestätigung per E-Mail erhältst, bist Du definitiv angemeldet. Dies kann einige Stunden dauern. Bitte das Bestätigungs-Mail behalten, mit dem darin enthaltenen Link kannst Du Anpassungen an Deiner Anmeldung vornehmen (Bitte Teilnahmeschluss beachten!).</div><div style="min-height: 18px;"><br></div><div style="min-height: 18px;">Wenn alles ausgefüllt ist, ganz nach unten rechts scrollen und auf die Schaltfläche "Anmelden" anklicken – erst dann ist die Anmeldung gespeichert.&nbsp;</div><div style="min-height: 18px;"><br></div><div style="min-height: 18px;">Viele Grüsse&nbsp; und bis bald! :-)</div><div style="min-height: 18px;">Sven</div></div>
DTSTART:20241215T073000Z
DTEND:20241215T153000Z
END:VEVENT
END:VCALENDAR