BEGIN:VCALENDAR
VERSION:2.0
PRODID:http://www.4else.com
BEGIN:VEVENT
UID:5d0d23cf7a1a14e684847e4593cc5bee
ORGANIZER:CN=""
LOCATION:Hof Neuguet, Hinteregg, Schweiz
SUMMARY:HorseChallenge Training 6. & 7. September 2025
DESCRIPTION:<h1 style="margin-left:0cm"><b style="font-family: Arial, Helvetica, sans-serif; font-size: 15px; font-style: normal; font-variant-ligatures: normal; font-variant-caps: normal;"><span lang="DE">Kursinhalt:</span></b></h1>

<p class="MsoBodyText" style="text-align:justify"><span lang="DE"><span lang="DE" style="font-size:11.0pt;font-family:
&quot;Arial&quot;,sans-serif;mso-fareast-font-family:Arial;mso-ansi-language:DE;
mso-fareast-language:EN-US;mso-bidi-language:AR-SA">Bist du interessiert an
einer harmonischen Zusammenarbeit mit deinem Pferd und möchtest mit ihm
zusammen verschiedene Hindernisse und Aufgaben der HorseChallenge kennenlernen?
Dann bist du hier genau richtig! Alle Niveaus und Equiden sind herzlich willkommen!
Trainiert wird in 3er Gruppen in Einheiten von jeweils einer Stunde. Rahel wird
individuell auf die Teams eingehen. Es kann vom Boden aus oder auch geritten
teilgenommen werden.</span><br></span><br>Der Theorieblock (Dauer ca 1h) kann optional
dazu gebucht werden. Hier erfährst du, worauf es bei HorseChallenge Turnieren ankommt, erhältst
Einblick in die Bewertungsrichtlinien<span style="letter-spacing: -0.25pt;"> </span>und<span style="letter-spacing: -0.6pt;"> </span>das<span style="letter-spacing: -0.35pt;"> </span>Reglement<span style="letter-spacing: -0.65pt;"> </span>der<span style="letter-spacing: -0.35pt;"> </span>HorseChallenge.<span style="letter-spacing: -0.65pt;"> </span>Zudem<span style="letter-spacing: -0.4pt;"> </span>kannst
du individuelle Fragen stellen.<br></p><p class="MsoBodyText"><span lang="DE"></span></p><p class="MsoBodyText"><b><span lang="DE">Die
Teilnahme ist an einem oder an beiden Tagen möglich.</span></b></p><p class="MsoBodyText"><b><span lang="DE"><o:p></o:p></span></b></p><p class="MsoBodyText"><b style="color: rgb(72, 73, 104); font-family: Arial, Helvetica, sans-serif; font-style: normal; font-variant-ligatures: normal; font-variant-caps: normal; font-size: 15px;"><span lang="DE">Kurskosten:</span></b></p><p class="MsoBodyText"><span lang="DE">CHF 60.- mit Theorie CHF 70.-<br></span>CHF<span style="letter-spacing: -0.75pt;"> </span>20.-<span style="letter-spacing: -0.55pt;">&nbsp;</span>Platzmiete<span style="letter-spacing: -0.7pt;"> </span>pro<span style="letter-spacing: -0.75pt;"> </span>Team<span style="letter-spacing: -0.55pt;"> </span>für<span style="letter-spacing: -0.7pt;"> </span>externe<span style="letter-spacing: -0.8pt;"> </span>Teilnehmer<span style="letter-spacing: -0.6pt;"> </span>(Pensionäre<span style="letter-spacing: -0.65pt;"> </span>gratis)&nbsp;</p><p class="MsoBodyText"><br></p><p class="MsoNormal"><b><span lang="DE">Zahlungsverbindung:
<o:p></o:p></span></b></p><p class="MsoNormal"><span lang="DE">IBAN: CH91 0900 0000 4032 3594 7<br></span>Rahel von Wyl, Sumiswaldstrasse 8, 3435 Ramsei<br>Oder per Twint: Rahel von Wyl 079 259 39 35</p><p class="MsoNormal"><span lang="DE">Zahlungszweck: HorseChallenge Training, Name
Teilnehmer<br></span><br></p><p class="MsoNormal">Einzahlung per Bank bevorzugt, Zahlung muss
bis 1 Woche vor dem Kurs beglichen sein.<br><br></p><p class="MsoNormal"><span lang="DE">Die Anmeldung gilt als definitiv, sobald die
Kurskosten einbezahlt sind. Nach Anmeldeschluss wird eine WhatsApp Gruppe
erstellt, in welcher der Zeitplan ca. eine Woche vor dem Trainingstag
zugestellt wird, sowie weitere Fragen vor und nach dem Training gestellt werden
können. Wer nicht in die Gruppe möchte, dies bitte Rahel melden.<o:p></o:p></span></p><p class="MsoNormal">

</p><p class="MsoNormal"><span lang="DE">Bei Kurzfristiger Absage (nach dem 30. August)
wird das Kursgeld nicht zurückerstattet, es kann aber ein Ersatz gestellt
werden.<o:p></o:p></span></p><div style="text-align: start; text-indent: 0px;"><span style="font-family: Arial, sans-serif; font-size: 11pt; text-align: center; text-indent: -0.533333px;">Die</span><span style="font-family: Arial, sans-serif; font-size: 11pt; text-align: center; text-indent: -0.533333px; letter-spacing: -0.35pt;"> </span><span lang="DE" style="font-family: Arial, sans-serif; font-size: 11pt; text-align: center; text-indent: -0.533333px;">Kursleitung<span style="letter-spacing:-.3pt"> </span>übernimmt<span style="letter-spacing:-.5pt">
</span>keine<span style="letter-spacing:-.3pt"> </span>Haftung<span style="letter-spacing:-.5pt"> </span>für<span style="letter-spacing:-.45pt"> </span>Drittschäden.
Versicherung ist Sache der TeilnehmerInnen.</span></div><p></p>
DTSTART:20250905T220000Z
DTEND:20250905T220000Z
END:VEVENT
BEGIN:VEVENT
UID:a9de4d0fcbc7d84baf410fb89b1ed084
ORGANIZER:CN=""
LOCATION:Hof Neuguet, Hinteregg, Schweiz
SUMMARY:HorseChallenge Training 6. & 7. September 2025
DESCRIPTION:<h1 style="margin-left:0cm"><b style="font-family: Arial, Helvetica, sans-serif; font-size: 15px; font-style: normal; font-variant-ligatures: normal; font-variant-caps: normal;"><span lang="DE">Kursinhalt:</span></b></h1>

<p class="MsoBodyText" style="text-align:justify"><span lang="DE"><span lang="DE" style="font-size:11.0pt;font-family:
&quot;Arial&quot;,sans-serif;mso-fareast-font-family:Arial;mso-ansi-language:DE;
mso-fareast-language:EN-US;mso-bidi-language:AR-SA">Bist du interessiert an
einer harmonischen Zusammenarbeit mit deinem Pferd und möchtest mit ihm
zusammen verschiedene Hindernisse und Aufgaben der HorseChallenge kennenlernen?
Dann bist du hier genau richtig! Alle Niveaus und Equiden sind herzlich willkommen!
Trainiert wird in 3er Gruppen in Einheiten von jeweils einer Stunde. Rahel wird
individuell auf die Teams eingehen. Es kann vom Boden aus oder auch geritten
teilgenommen werden.</span><br></span><br>Der Theorieblock (Dauer ca 1h) kann optional
dazu gebucht werden. Hier erfährst du, worauf es bei HorseChallenge Turnieren ankommt, erhältst
Einblick in die Bewertungsrichtlinien<span style="letter-spacing: -0.25pt;"> </span>und<span style="letter-spacing: -0.6pt;"> </span>das<span style="letter-spacing: -0.35pt;"> </span>Reglement<span style="letter-spacing: -0.65pt;"> </span>der<span style="letter-spacing: -0.35pt;"> </span>HorseChallenge.<span style="letter-spacing: -0.65pt;"> </span>Zudem<span style="letter-spacing: -0.4pt;"> </span>kannst
du individuelle Fragen stellen.<br></p><p class="MsoBodyText"><span lang="DE"></span></p><p class="MsoBodyText"><b><span lang="DE">Die
Teilnahme ist an einem oder an beiden Tagen möglich.</span></b></p><p class="MsoBodyText"><b><span lang="DE"><o:p></o:p></span></b></p><p class="MsoBodyText"><b style="color: rgb(72, 73, 104); font-family: Arial, Helvetica, sans-serif; font-style: normal; font-variant-ligatures: normal; font-variant-caps: normal; font-size: 15px;"><span lang="DE">Kurskosten:</span></b></p><p class="MsoBodyText"><span lang="DE">CHF 60.- mit Theorie CHF 70.-<br></span>CHF<span style="letter-spacing: -0.75pt;"> </span>20.-<span style="letter-spacing: -0.55pt;">&nbsp;</span>Platzmiete<span style="letter-spacing: -0.7pt;"> </span>pro<span style="letter-spacing: -0.75pt;"> </span>Team<span style="letter-spacing: -0.55pt;"> </span>für<span style="letter-spacing: -0.7pt;"> </span>externe<span style="letter-spacing: -0.8pt;"> </span>Teilnehmer<span style="letter-spacing: -0.6pt;"> </span>(Pensionäre<span style="letter-spacing: -0.65pt;"> </span>gratis)&nbsp;</p><p class="MsoBodyText"><br></p><p class="MsoNormal"><b><span lang="DE">Zahlungsverbindung:
<o:p></o:p></span></b></p><p class="MsoNormal"><span lang="DE">IBAN: CH91 0900 0000 4032 3594 7<br></span>Rahel von Wyl, Sumiswaldstrasse 8, 3435 Ramsei<br>Oder per Twint: Rahel von Wyl 079 259 39 35</p><p class="MsoNormal"><span lang="DE">Zahlungszweck: HorseChallenge Training, Name
Teilnehmer<br></span><br></p><p class="MsoNormal">Einzahlung per Bank bevorzugt, Zahlung muss
bis 1 Woche vor dem Kurs beglichen sein.<br><br></p><p class="MsoNormal"><span lang="DE">Die Anmeldung gilt als definitiv, sobald die
Kurskosten einbezahlt sind. Nach Anmeldeschluss wird eine WhatsApp Gruppe
erstellt, in welcher der Zeitplan ca. eine Woche vor dem Trainingstag
zugestellt wird, sowie weitere Fragen vor und nach dem Training gestellt werden
können. Wer nicht in die Gruppe möchte, dies bitte Rahel melden.<o:p></o:p></span></p><p class="MsoNormal">

</p><p class="MsoNormal"><span lang="DE">Bei Kurzfristiger Absage (nach dem 30. August)
wird das Kursgeld nicht zurückerstattet, es kann aber ein Ersatz gestellt
werden.<o:p></o:p></span></p><div style="text-align: start; text-indent: 0px;"><span style="font-family: Arial, sans-serif; font-size: 11pt; text-align: center; text-indent: -0.533333px;">Die</span><span style="font-family: Arial, sans-serif; font-size: 11pt; text-align: center; text-indent: -0.533333px; letter-spacing: -0.35pt;"> </span><span lang="DE" style="font-family: Arial, sans-serif; font-size: 11pt; text-align: center; text-indent: -0.533333px;">Kursleitung<span style="letter-spacing:-.3pt"> </span>übernimmt<span style="letter-spacing:-.5pt">
</span>keine<span style="letter-spacing:-.3pt"> </span>Haftung<span style="letter-spacing:-.5pt"> </span>für<span style="letter-spacing:-.45pt"> </span>Drittschäden.
Versicherung ist Sache der TeilnehmerInnen.</span></div><p></p>
DTSTART:20250906T220000Z
DTEND:20250906T220000Z
END:VEVENT
END:VCALENDAR