BEGIN:VCALENDAR
VERSION:2.0
PRODID:http://www.4else.com
BEGIN:VEVENT
UID:11d61902c275b74c7a49427edf925c1c
ORGANIZER:CN=""
LOCATION:Robinsonspielplatz Effretikon, Kirchweg, Illnau-Effretikon, Schweiz
SUMMARY:Bücherflohmi im Frühling
DESCRIPTION:
DTSTART:20230506T080000Z
DTEND:20230506T140000Z
END:VEVENT
BEGIN:VEVENT
UID:6a05dc13e60e2ca7dcbca86b66a7c006
ORGANIZER:CN=""
LOCATION:Robinsonspielplatz Effretikon, Kirchweg, Illnau-Effretikon, Schweiz
SUMMARY:Bücherflohmi im Frühling
DESCRIPTION:
DTSTART:20230507T080000Z
DTEND:20230507T140000Z
END:VEVENT
END:VCALENDAR