BEGIN:VCALENDAR
VERSION:2.0
PRODID:http://www.4else.com
BEGIN:VEVENT
UID:b524e2e3a8c367b74ac5cbe0eb62a341
ORGANIZER:CN="Ursula Schuster / Organisation vor Ort: auf Anfrage"
LOCATION:Wolfegg, Deutschland
SUMMARY:Sturztraining mit Stuntrider Pieter - VERSCHOBEN wg. Corona - neuer Termin am 26. Juli
DESCRIPTION:<span style="font-family: &quot;Arial&quot;,sans-serif;"><h1 style="background-color: transparent; border-bottom-color: rgb(70, 106, 102); border-bottom-style: none; border-bottom-width: 0px; border-image-outset: 0; border-image-repeat: stretch; border-image-slice: 100%; border-image-source: none; border-image-width: 1; border-left-color: rgb(70, 106, 102); border-left-style: none; border-left-width: 0px; border-right-color: rgb(70, 106, 102); border-right-style: none; border-right-width: 0px; border-top-color: rgb(70, 106, 102); border-top-style: none; border-top-width: 0px; box-sizing: border-box; clear: none; color: rgb(70, 106, 102); font-family: &amp;quot;Yanone Kaffeesatz Regular&amp;quot;; font-size: 37.4px; font-style: normal; font-variant: normal; font-weight: 400; letter-spacing: normal; line-height: 56.1px; margin-bottom: 0px; margin-left: 0px; margin-right: 0px; margin-top: 20px; orphans: 2; padding-bottom: 0px; padding-left: 0px; padding-right: 0px; padding-top: 0px; text-align: left; text-decoration: none; text-indent: 0px; text-transform: none; -webkit-text-stroke-width: 0px; white-space: normal; word-spacing: 0px;">Sturztraining für Reiter - Learn To Fall <br></h1><h1 style="background-color: transparent; border-bottom-color: rgb(70, 106, 102); border-bottom-style: none; border-bottom-width: 0px; border-image-outset: 0; border-image-repeat: stretch; border-image-slice: 100%; border-image-source: none; border-image-width: 1; border-left-color: rgb(70, 106, 102); border-left-style: none; border-left-width: 0px; border-right-color: rgb(70, 106, 102); border-right-style: none; border-right-width: 0px; border-top-color: rgb(70, 106, 102); border-top-style: none; border-top-width: 0px; box-sizing: border-box; clear: none; color: rgb(70, 106, 102); font-family: &amp;quot;Yanone Kaffeesatz Regular&amp;quot;; font-size: 37.4px; font-style: normal; font-variant: normal; font-weight: 400; letter-spacing: normal; line-height: 56.1px; margin-bottom: 0px; margin-left: 0px; margin-right: 0px; margin-top: 20px; orphans: 2; padding-bottom: 0px; padding-left: 0px; padding-right: 0px; padding-top: 0px; text-align: left; text-decoration: none; text-indent: 0px; text-transform: none; -webkit-text-stroke-width: 0px; white-space: normal; word-spacing: 0px;">VERSCHOBEN wg. Corona - angemeldete Teilnehmer per Mail benachrichtigt und haben bei neuem Termin Priorität.<br></h1><div><br></div><p class="MsoNormal" style="margin-bottom: 15pt; line-height: normal; background-image: initial; background-attachment: initial; background-size: initial; background-origin: initial; background-clip: initial; background-position: initial; background-repeat: initial;"><span style="display: inline !important; float: none; background-color: transparent; color: rgb(51, 51, 51); font-family: &quot;Open Sans&quot;; font-size: 14px; font-style: normal; font-variant: normal; font-weight: 400; letter-spacing: normal; orphans: 2; text-align: left; text-decoration: none; text-indent: 0px; text-transform: none; -webkit-text-stroke-width: 0px; white-space: normal; word-spacing: 0px; word-wrap: break-word;">
</span></p><h3 style="background-color: transparent; border-bottom-color: rgb(70, 106, 102); border-bottom-style: none; border-bottom-width: 0px; border-image-outset: 0; border-image-repeat: stretch; border-image-slice: 100%; border-image-source: none; border-image-width: 1; border-left-color: rgb(70, 106, 102); border-left-style: none; border-left-width: 0px; border-right-color: rgb(70, 106, 102); border-right-style: none; border-right-width: 0px; border-top-color: rgb(70, 106, 102); border-top-style: none; border-top-width: 0px; box-sizing: border-box; clear: none; color: rgb(70, 106, 102); font-family: &amp;quot;Yanone Kaffeesatz Regular&amp;quot;; font-size: 28.26px; font-style: normal; font-variant: normal; font-weight: 400; letter-spacing: normal; line-height: 42.4px; margin-bottom: 0px; margin-left: 0px; margin-right: 0px; margin-top: 20px; orphans: 2; padding-bottom: 0px; padding-left: 0px; padding-right: 0px; padding-top: 0px; text-align: left; text-decoration: none; text-indent: 0px; text-transform: none; -webkit-text-stroke-width: 0px; white-space: normal; word-spacing: 0px;">Reiten ist ein Risikosport und niemand ist vor Stürzen gefeilt! Pferde sind unberechenbar, können plötzlich buckeln, steigen, scheuen, durchgehen oder zu Fall kommen. So mancher Ritt endet mit einem Sturz und nicht jeder verläuft glimpflich.</h3><p class="MsoNormal" style="margin-bottom: 15pt; line-height: normal; background-image: initial; background-attachment: initial; background-size: initial; background-origin: initial; background-clip: initial; background-position: initial; background-repeat: initial;"><span style="display: inline !important; float: none; background-color: transparent; color: rgb(51, 51, 51); font-family: &quot;Open Sans&quot;; font-size: 14px; font-style: normal; font-variant: normal; font-weight: 400; letter-spacing: normal; orphans: 2; text-align: left; text-decoration: none; text-indent: 0px; text-transform: none; -webkit-text-stroke-width: 0px; white-space: normal; word-spacing: 0px; word-wrap: break-word;">
</span></p><hr class="symple-divider solid " style="background-attachment: scroll; background-clip: border-box; background-color: transparent; background-image: none; background-origin: padding-box; background-position-x: 0%; background-position-y: 0%; background-repeat: repeat; background-size: auto; border-bottom-color: transparent; border-bottom-style: solid; border-bottom-width: 1px; border-image-outset: 0; border-image-repeat: stretch; border-image-slice: 100%; border-image-source: none; border-image-width: 1; border-left-color: transparent; border-left-style: solid; border-left-width: 1px; border-right-color: transparent; border-right-style: solid; border-right-width: 1px; border-top-color: rgb(238, 238, 238); border-top-style: solid; border-top-width: 1px; box-sizing: border-box; clear: both; color: rgb(51, 51, 51); display: block; font-family: &amp;quot;Open Sans&amp;quot;; font-size: 14px; font-style: normal; font-variant: normal; font-weight: 400; height: 2px; letter-spacing: normal; margin-bottom: 20px; margin-left: 0px; margin-right: 0px; margin-top: 20px; orphans: 2; text-align: center; text-decoration: none; text-indent: 0px; text-transform: none; -webkit-text-stroke-width: 0px; white-space: normal; width: 754px; word-spacing: 0px;"><p style="background-color: transparent; border-bottom-color: rgb(51, 51, 51); border-bottom-style: none; border-bottom-width: 0px; border-image-outset: 0; border-image-repeat: stretch; border-image-slice: 100%; border-image-source: none; border-image-width: 1; border-left-color: rgb(51, 51, 51); border-left-style: none; border-left-width: 0px; border-right-color: rgb(51, 51, 51); border-right-style: none; border-right-width: 0px; border-top-color: rgb(51, 51, 51); border-top-style: none; border-top-width: 0px; box-sizing: border-box; color: rgb(51, 51, 51); font-family: &amp;quot;Open Sans&amp;quot;; font-size: 14px; font-style: normal; font-variant: normal; font-weight: 400; letter-spacing: normal; margin-bottom: 14px; margin-left: 0px; margin-right: 0px; margin-top: 0px; orphans: 2; padding-bottom: 0px; padding-left: 0px; padding-right: 0px; padding-top: 0px; text-align: left; text-decoration: none; text-indent: 0px; text-transform: none; -webkit-text-stroke-width: 0px; white-space: normal; word-spacing: 0px;"><span style="display: inline !important; float: none; background-color: transparent; color: rgb(51, 51, 51); font-family: &quot;Open Sans&quot;; font-size: 14px; font-style: normal; font-variant: normal; font-weight: 400; letter-spacing: normal; orphans: 2; text-align: left; text-decoration: none; text-indent: 0px; text-transform: none; -webkit-text-stroke-width: 0px; white-space: normal; word-spacing: 0px; word-wrap: break-word;"></span><strong style="border-bottom-color: rgb(51, 51, 51); border-bottom-style: none; border-bottom-width: 0px; border-image-outset: 0; border-image-repeat: stretch; border-image-slice: 100%; border-image-source: none; border-image-width: 1; border-left-color: rgb(51, 51, 51); border-left-style: none; border-left-width: 0px; border-right-color: rgb(51, 51, 51); border-right-style: none; border-right-width: 0px; border-top-color: rgb(51, 51, 51); border-top-style: none; border-top-width: 0px; box-sizing: border-box; font-size: 14px; font-weight: 700; margin-bottom: 0px; margin-left: 0px; margin-right: 0px; margin-top: 0px; padding-bottom: 0px; padding-left: 0px; padding-right: 0px; padding-top: 0px;"><font color="#CC0000"> AM 18. APRIL 2020 in der neuen Halle vom Pferdehöfle!</font><br></strong></p><p style="background-color: transparent; border-bottom-color: rgb(51, 51, 51); border-bottom-style: none; border-bottom-width: 0px; border-image-outset: 0; border-image-repeat: stretch; border-image-slice: 100%; border-image-source: none; border-image-width: 1; border-left-color: rgb(51, 51, 51); border-left-style: none; border-left-width: 0px; border-right-color: rgb(51, 51, 51); border-right-style: none; border-right-width: 0px; border-top-color: rgb(51, 51, 51); border-top-style: none; border-top-width: 0px; box-sizing: border-box; color: rgb(51, 51, 51); font-family: &amp;quot;Open Sans&amp;quot;; font-size: 14px; font-style: normal; font-variant: normal; font-weight: 400; letter-spacing: normal; margin-bottom: 14px; margin-left: 0px; margin-right: 0px; margin-top: 0px; orphans: 2; padding-bottom: 0px; padding-left: 0px; padding-right: 0px; padding-top: 0px; text-align: left; text-decoration: none; text-indent: 0px; text-transform: none; -webkit-text-stroke-width: 0px; white-space: normal; word-spacing: 0px;"><strong style="border-bottom-color: rgb(51, 51, 51); border-bottom-style: none; border-bottom-width: 0px; border-image-outset: 0; border-image-repeat: stretch; border-image-slice: 100%; border-image-source: none; border-image-width: 1; border-left-color: rgb(51, 51, 51); border-left-style: none; border-left-width: 0px; border-right-color: rgb(51, 51, 51); border-right-style: none; border-right-width: 0px; border-top-color: rgb(51, 51, 51); border-top-style: none; border-top-width: 0px; box-sizing: border-box; font-size: 14px; font-weight: 700; margin-bottom: 0px; margin-left: 0px; margin-right: 0px; margin-top: 0px; padding-bottom: 0px; padding-left: 0px; padding-right: 0px; padding-top: 0px;">Nutzen Sie die Chance und lernen Sie von Profi-Stuntrider Pieter van Pletzen, mit welchen Falltechniken Sie sich bei einem Reitunfall vor schwerwiegenden Verletzungen schützen können.</strong></p><p style="background-color: transparent; border-bottom-color: rgb(51, 51, 51); border-bottom-style: none; border-bottom-width: 0px; border-image-outset: 0; border-image-repeat: stretch; border-image-slice: 100%; border-image-source: none; border-image-width: 1; border-left-color: rgb(51, 51, 51); border-left-style: none; border-left-width: 0px; border-right-color: rgb(51, 51, 51); border-right-style: none; border-right-width: 0px; border-top-color: rgb(51, 51, 51); border-top-style: none; border-top-width: 0px; box-sizing: border-box; color: rgb(51, 51, 51); font-family: &amp;quot;Open Sans&amp;quot;; font-size: 14px; font-style: normal; font-variant: normal; font-weight: 400; letter-spacing: normal; margin-bottom: 14px; margin-left: 0px; margin-right: 0px; margin-top: 0px; orphans: 2; padding-bottom: 0px; padding-left: 0px; padding-right: 0px; padding-top: 0px; text-align: left; text-decoration: none; text-indent: 0px; text-transform: none; -webkit-text-stroke-width: 0px; white-space: normal; word-spacing: 0px;"><strong style="border-bottom-color: rgb(51, 51, 51); border-bottom-style: none; border-bottom-width: 0px; border-image-outset: 0; border-image-repeat: stretch; border-image-slice: 100%; border-image-source: none; border-image-width: 1; border-left-color: rgb(51, 51, 51); border-left-style: none; border-left-width: 0px; border-right-color: rgb(51, 51, 51); border-right-style: none; border-right-width: 0px; border-top-color: rgb(51, 51, 51); border-top-style: none; border-top-width: 0px; box-sizing: border-box; font-size: 14px; font-weight: 700; margin-bottom: 0px; margin-left: 0px; margin-right: 0px; margin-top: 0px; padding-bottom: 0px; padding-left: 0px; padding-right: 0px; padding-top: 0px;">Pieter van Pletzen war <a title="" href="https://www.youtube.com/watch?v=It-0WHzaHqs" target="_blank"><font color="#cc0000">Stuntrider in vielen internationalen Spielfilmen und Shows</font></a></strong></p><p style="background-color: transparent; border-bottom-color: rgb(51, 51, 51); border-bottom-style: none; border-bottom-width: 0px; border-image-outset: 0; border-image-repeat: stretch; border-image-slice: 100%; border-image-source: none; border-image-width: 1; border-left-color: rgb(51, 51, 51); border-left-style: none; border-left-width: 0px; border-right-color: rgb(51, 51, 51); border-right-style: none; border-right-width: 0px; border-top-color: rgb(51, 51, 51); border-top-style: none; border-top-width: 0px; box-sizing: border-box; color: rgb(51, 51, 51); font-family: &amp;quot;Open Sans&amp;quot;; font-size: 14px; font-style: normal; font-variant: normal; font-weight: 400; letter-spacing: normal; margin-bottom: 14px; margin-left: 0px; margin-right: 0px; margin-top: 0px; orphans: 2; padding-bottom: 0px; padding-left: 0px; padding-right: 0px; padding-top: 0px; text-align: left; text-decoration: none; text-indent: 0px; text-transform: none; -webkit-text-stroke-width: 0px; white-space: normal; word-spacing: 0px;"><strong style="border-bottom-color: rgb(51, 51, 51); border-bottom-style: none; border-bottom-width: 0px; border-image-outset: 0; border-image-repeat: stretch; border-image-slice: 100%; border-image-source: none; border-image-width: 1; border-left-color: rgb(51, 51, 51); border-left-style: none; border-left-width: 0px; border-right-color: rgb(51, 51, 51); border-right-style: none; border-right-width: 0px; border-top-color: rgb(51, 51, 51); border-top-style: none; border-top-width: 0px; box-sizing: border-box; font-size: 14px; font-weight: 700; margin-bottom: 0px; margin-left: 0px; margin-right: 0px; margin-top: 0px; padding-bottom: 0px; padding-left: 0px; padding-right: 0px; padding-top: 0px;"><a title="" href="https://www.tagesanzeiger.ch/zuerich/region/Keiner-faellt-so-schoen-vom-Pferd-wie-er/story/19321240" target="_blank"><font color="#cc0000">Hier sein Werdegang</font></a><br></strong></p><div><br></div><p style="background-color: transparent; border-bottom-color: rgb(51, 51, 51); border-bottom-style: none; border-bottom-width: 0px; border-image-outset: 0; border-image-repeat: stretch; border-image-slice: 100%; border-image-source: none; border-image-width: 1; border-left-color: rgb(51, 51, 51); border-left-style: none; border-left-width: 0px; border-right-color: rgb(51, 51, 51); border-right-style: none; border-right-width: 0px; border-top-color: rgb(51, 51, 51); border-top-style: none; border-top-width: 0px; box-sizing: border-box; color: rgb(51, 51, 51); font-family: &amp;quot;Open Sans&amp;quot;; font-size: 14px; font-style: normal; font-variant: normal; font-weight: 400; letter-spacing: normal; margin-bottom: 14px; margin-left: 0px; margin-right: 0px; margin-top: 0px; orphans: 2; padding-bottom: 0px; padding-left: 0px; padding-right: 0px; padding-top: 0px; text-align: left; text-decoration: none; text-indent: 0px; text-transform: none; -webkit-text-stroke-width: 0px; white-space: normal; word-spacing: 0px;"><strong style="border-bottom-color: rgb(51, 51, 51); border-bottom-style: none; border-bottom-width: 0px; border-image-outset: 0; border-image-repeat: stretch; border-image-slice: 100%; border-image-source: none; border-image-width: 1; border-left-color: rgb(51, 51, 51); border-left-style: none; border-left-width: 0px; border-right-color: rgb(51, 51, 51); border-right-style: none; border-right-width: 0px; border-top-color: rgb(51, 51, 51); border-top-style: none; border-top-width: 0px; box-sizing: border-box; font-size: 14px; font-weight: 700; margin-bottom: 0px; margin-left: 0px; margin-right: 0px; margin-top: 0px; padding-bottom: 0px; padding-left: 0px; padding-right: 0px; padding-top: 0px;">Warum ein Sturztraining?</strong><br style="box-sizing: border-box;">
Ein Sturztraining für Reiter ist wie ein Schleuderkurs für Autofahrer: Sie lernen in Notsituationen richtig zu handeln, denn instinktiv reagiert man meist falsch. Durch Verinnerlichen und Automatisieren der richtigen Bewegungsabläufe sind Sie für den Ernstfall gewappnet. Sie erlangen mehr Handlungsfähigkeit, Gelassenheit und Mut. Der Sturzkurs dient der Sicherheit und Unfallprävention im Reitsport.</p><p class="MsoNormal" style="margin-bottom: 15pt; line-height: normal; background-image: initial; background-attachment: initial; background-size: initial; background-origin: initial; background-clip: initial; background-position: initial; background-repeat: initial;"><span style="display: inline !important; float: none; background-color: transparent; color: rgb(51, 51, 51); font-family: &quot;Open Sans&quot;; font-size: 14px; font-style: normal; font-variant: normal; font-weight: 400; letter-spacing: normal; orphans: 2; text-align: left; text-decoration: none; text-indent: 0px; text-transform: none; -webkit-text-stroke-width: 0px; white-space: normal; word-spacing: 0px; word-wrap: break-word;">
</span></p><p style="background-color: transparent; border-bottom-color: rgb(51, 51, 51); border-bottom-style: none; border-bottom-width: 0px; border-image-outset: 0; border-image-repeat: stretch; border-image-slice: 100%; border-image-source: none; border-image-width: 1; border-left-color: rgb(51, 51, 51); border-left-style: none; border-left-width: 0px; border-right-color: rgb(51, 51, 51); border-right-style: none; border-right-width: 0px; border-top-color: rgb(51, 51, 51); border-top-style: none; border-top-width: 0px; box-sizing: border-box; color: rgb(51, 51, 51); font-family: &amp;quot;Open Sans&amp;quot;; font-size: 14px; font-style: normal; font-variant: normal; font-weight: 400; letter-spacing: normal; margin-bottom: 14px; margin-left: 0px; margin-right: 0px; margin-top: 0px; orphans: 2; padding-bottom: 0px; padding-left: 0px; padding-right: 0px; padding-top: 0px; text-align: left; text-decoration: none; text-indent: 0px; text-transform: none; -webkit-text-stroke-width: 0px; white-space: normal; word-spacing: 0px;"><strong style="border-bottom-color: rgb(51, 51, 51); border-bottom-style: none; border-bottom-width: 0px; border-image-outset: 0; border-image-repeat: stretch; border-image-slice: 100%; border-image-source: none; border-image-width: 1; border-left-color: rgb(51, 51, 51); border-left-style: none; border-left-width: 0px; border-right-color: rgb(51, 51, 51); border-right-style: none; border-right-width: 0px; border-top-color: rgb(51, 51, 51); border-top-style: none; border-top-width: 0px; box-sizing: border-box; font-size: 14px; font-weight: 700; margin-bottom: 0px; margin-left: 0px; margin-right: 0px; margin-top: 0px; padding-bottom: 0px; padding-left: 0px; padding-right: 0px; padding-top: 0px;">Für wen ist dieser Kurs?</strong><br style="box-sizing: border-box;">
Ob Anfänger, Profi, Kinder oder Senioren – jeder Reiter sollte in ein professionelles Sturztraining investieren, um Verletzungsrisiken zu minimieren. Das Sturztraining richtet sich an Reiter aller Disziplinen und Ausbildungsgrade und sollte regelmässig wiederholt werden, um die Bewegungsabläufe zu festigen.</p></span><p class="MsoNormal" style="margin-bottom: 15pt; line-height: normal; background-image: initial; background-attachment: initial; background-size: initial; background-origin: initial; background-clip: initial; background-position: initial; background-repeat: initial;"><br></p><p class="MsoNormal" style="margin-bottom: 15pt; line-height: normal; background-image: initial; background-attachment: initial; background-size: initial; background-origin: initial; background-clip: initial; background-position: initial; background-repeat: initial;"><font face="Arial, sans-serif"><b>wo findet der Kurs statt:</b><br></font></p><div><font face="Arial, sans-serif">Unser Kurs findet auf Tanja`s Pferdehöfle, Oppenreute 18, 88364 Wolfegg statt. www.pferdehoefle.de<br></font></div><div><br></div><div>Die Kosten für den Kurs sind von der Teilnehmeranzahl abhängig und betragen voraussichtlich:<br>
<br>bei 10 Teilnehmern (= Min.) 99,- € p.P. inkl. Anlagegebühr und Getränk, inkl. Anfahrt von Pietr aus dem Ausland</div><div>(ab 11 bis max. 15 Teilnehmern 89,- € )<br></div><div><b><font face="Arial, sans-serif"><br></font></b></div><div><b><br>wie sind die Kurszeiten:</b><u><b><br><div><br></div></b></u>Treffpunkt: 13:30 Uhr</div><div>Beginn: 14:00 Uhr, ca. 3 Std.<br><b><br><br></b></div><div><font face="Arial, sans-serif"><b>was sind allfällige Nebenkosten:</b><br><br><div>eigene Übernachtungen, Mahlzeiten</div><div>Fahrtkosten von 200,- € sind bereits in den oberen Preisen berücksichtigt.<br></div></font></div><div><font face="Arial, sans-serif"><br></font></div><div><font face="Arial, sans-serif" color="#009900"><a href="https://ursula-schuster.com/kurskonditionen/" title="Konditionen" target="_blank"><font color="#009900">Bitte</font> <font color="#009900">beachte</font> <font color="#009900">die</font> <font color="#009900">Teilnahmebedingungen</font></a></font></div><p></p>
DTSTART:20200417T220000Z
DTEND:20200417T220000Z
END:VEVENT
END:VCALENDAR