BEGIN:VCALENDAR
VERSION:2.0
PRODID:http://www.4else.com
BEGIN:VEVENT
UID:1f914d4bffceca5deb9bbcba29bdba43
ORGANIZER:CN=""
LOCATION:Brugg, Schweiz
SUMMARY:Prüfung 5 (World Equestrian and Human Games )
DESCRIPTION:
DTSTART:20220625T220000Z
DTEND:20220625T220000Z
END:VEVENT
END:VCALENDAR