BEGIN:VCALENDAR
VERSION:2.0
PRODID:http://www.4else.com
BEGIN:VEVENT
UID:ef11d7fbf9369406f8842fc7cfec3e0f
ORGANIZER:CN="Ursula Schuster"
LOCATION:Pferdehöfle, Oppenreute, Wolfegg, Deutschland
SUMMARY:Study Week Level 3 & "schwierige" Pferde
DESCRIPTION:<!--[if gte mso 9]><xml>
 <o:OfficeDocumentSettings>
  <o:AllowPNG/>
 </o:OfficeDocumentSettings>
</xml><![endif]--><!--[if gte mso 9]><xml>
 <w:WordDocument>
  <w:View>Normal</w:View>
  <w:Zoom>0</w:Zoom>
  <w:TrackMoves/>
  <w:TrackFormatting/>
  <w:HyphenationZone>21</w:HyphenationZone>
  <w:PunctuationKerning/>
  <w:ValidateAgainstSchemas/>
  <w:SaveIfXMLInvalid>false</w:SaveIfXMLInvalid>
  <w:IgnoreMixedContent>false</w:IgnoreMixedContent>
  <w:AlwaysShowPlaceholderText>false</w:AlwaysShowPlaceholderText>
  <w:DoNotPromoteQF/>
  <w:LidThemeOther>DE</w:LidThemeOther>
  <w:LidThemeAsian>X-NONE</w:LidThemeAsian>
  <w:LidThemeComplexScript>X-NONE</w:LidThemeComplexScript>
  <w:Compatibility>
   <w:BreakWrappedTables/>
   <w:SnapToGridInCell/>
   <w:WrapTextWithPunct/>
   <w:UseAsianBreakRules/>
   <w:DontGrowAutofit/>
   <w:SplitPgBreakAndParaMark/>
   <w:EnableOpenTypeKerning/>
   <w:DontFlipMirrorIndents/>
   <w:OverrideTableStyleHps/>
  </w:Compatibility>
  <m:mathPr>
   <m:mathFont m:val="Cambria Math"/>
   <m:brkBin m:val="before"/>
   <m:brkBinSub m:val="&#45;-"/>
   <m:smallFrac m:val="off"/>
   <m:dispDef/>
   <m:lMargin m:val="0"/>
   <m:rMargin m:val="0"/>
   <m:defJc m:val="centerGroup"/>
   <m:wrapIndent m:val="1440"/>
   <m:intLim m:val="subSup"/>
   <m:naryLim m:val="undOvr"/>
  </m:mathPr></w:WordDocument>
</xml><![endif]--><!--[if gte mso 9]><xml>
 <w:LatentStyles DefLockedState="false" DefUnhideWhenUsed="true"
  DefSemiHidden="true" DefQFormat="false" DefPriority="99"
  LatentStyleCount="267">
  <w:LsdException Locked="false" Priority="0" SemiHidden="false"
   UnhideWhenUsed="false" QFormat="true" Name="Normal"/>
  <w:LsdException Locked="false" Priority="9" SemiHidden="false"
   UnhideWhenUsed="false" QFormat="true" Name="heading 1"/>
  <w:LsdException Locked="false" Priority="9" QFormat="true" Name="heading 2"/>
  <w:LsdException Locked="false" Priority="9" QFormat="true" Name="heading 3"/>
  <w:LsdException Locked="false" Priority="9" QFormat="true" Name="heading 4"/>
  <w:LsdException Locked="false" Priority="9" QFormat="true" Name="heading 5"/>
  <w:LsdException Locked="false" Priority="9" QFormat="true" Name="heading 6"/>
  <w:LsdException Locked="false" Priority="9" QFormat="true" Name="heading 7"/>
  <w:LsdException Locked="false" Priority="9" QFormat="true" Name="heading 8"/>
  <w:LsdException Locked="false" Priority="9" QFormat="true" Name="heading 9"/>
  <w:LsdException Locked="false" Priority="39" Name="toc 1"/>
  <w:LsdException Locked="false" Priority="39" Name="toc 2"/>
  <w:LsdException Locked="false" Priority="39" Name="toc 3"/>
  <w:LsdException Locked="false" Priority="39" Name="toc 4"/>
  <w:LsdException Locked="false" Priority="39" Name="toc 5"/>
  <w:LsdException Locked="false" Priority="39" Name="toc 6"/>
  <w:LsdException Locked="false" Priority="39" Name="toc 7"/>
  <w:LsdException Locked="false" Priority="39" Name="toc 8"/>
  <w:LsdException Locked="false" Priority="39" Name="toc 9"/>
  <w:LsdException Locked="false" Priority="35" QFormat="true" Name="caption"/>
  <w:LsdException Locked="false" Priority="10" SemiHidden="false"
   UnhideWhenUsed="false" QFormat="true" Name="Title"/>
  <w:LsdException Locked="false" Priority="1" Name="Default Paragraph Font"/>
  <w:LsdException Locked="false" Priority="11" SemiHidden="false"
   UnhideWhenUsed="false" QFormat="true" Name="Subtitle"/>
  <w:LsdException Locked="false" Priority="22" SemiHidden="false"
   UnhideWhenUsed="false" QFormat="true" Name="Strong"/>
  <w:LsdException Locked="false" Priority="20" SemiHidden="false"
   UnhideWhenUsed="false" QFormat="true" Name="Emphasis"/>
  <w:LsdException Locked="false" Priority="59" SemiHidden="false"
   UnhideWhenUsed="false" Name="Table Grid"/>
  <w:LsdException Locked="false" UnhideWhenUsed="false" Name="Placeholder Text"/>
  <w:LsdException Locked="false" Priority="1" SemiHidden="false"
   UnhideWhenUsed="false" QFormat="true" Name="No Spacing"/>
  <w:LsdException Locked="false" Priority="60" SemiHidden="false"
   UnhideWhenUsed="false" Name="Light Shading"/>
  <w:LsdException Locked="false" Priority="61" SemiHidden="false"
   UnhideWhenUsed="false" Name="Light List"/>
  <w:LsdException Locked="false" Priority="62" SemiHidden="false"
   UnhideWhenUsed="false" Name="Light Grid"/>
  <w:LsdException Locked="false" Priority="63" SemiHidden="false"
   UnhideWhenUsed="false" Name="Medium Shading 1"/>
  <w:LsdException Locked="false" Priority="64" SemiHidden="false"
   UnhideWhenUsed="false" Name="Medium Shading 2"/>
  <w:LsdException Locked="false" Priority="65" SemiHidden="false"
   UnhideWhenUsed="false" Name="Medium List 1"/>
  <w:LsdException Locked="false" Priority="66" SemiHidden="false"
   UnhideWhenUsed="false" Name="Medium List 2"/>
  <w:LsdException Locked="false" Priority="67" SemiHidden="false"
   UnhideWhenUsed="false" Name="Medium Grid 1"/>
  <w:LsdException Locked="false" Priority="68" SemiHidden="false"
   UnhideWhenUsed="false" Name="Medium Grid 2"/>
  <w:LsdException Locked="false" Priority="69" SemiHidden="false"
   UnhideWhenUsed="false" Name="Medium Grid 3"/>
  <w:LsdException Locked="false" Priority="70" SemiHidden="false"
   UnhideWhenUsed="false" Name="Dark List"/>
  <w:LsdException Locked="false" Priority="71" SemiHidden="false"
   UnhideWhenUsed="false" Name="Colorful Shading"/>
  <w:LsdException Locked="false" Priority="72" SemiHidden="false"
   UnhideWhenUsed="false" Name="Colorful List"/>
  <w:LsdException Locked="false" Priority="73" SemiHidden="false"
   UnhideWhenUsed="false" Name="Colorful Grid"/>
  <w:LsdException Locked="false" Priority="60" SemiHidden="false"
   UnhideWhenUsed="false" Name="Light Shading Accent 1"/>
  <w:LsdException Locked="false" Priority="61" SemiHidden="false"
   UnhideWhenUsed="false" Name="Light List Accent 1"/>
  <w:LsdException Locked="false" Priority="62" SemiHidden="false"
   UnhideWhenUsed="false" Name="Light Grid Accent 1"/>
  <w:LsdException Locked="false" Priority="63" SemiHidden="false"
   UnhideWhenUsed="false" Name="Medium Shading 1 Accent 1"/>
  <w:LsdException Locked="false" Priority="64" SemiHidden="false"
   UnhideWhenUsed="false" Name="Medium Shading 2 Accent 1"/>
  <w:LsdException Locked="false" Priority="65" SemiHidden="false"
   UnhideWhenUsed="false" Name="Medium List 1 Accent 1"/>
  <w:LsdException Locked="false" UnhideWhenUsed="false" Name="Revision"/>
  <w:LsdException Locked="false" Priority="34" SemiHidden="false"
   UnhideWhenUsed="false" QFormat="true" Name="List Paragraph"/>
  <w:LsdException Locked="false" Priority="29" SemiHidden="false"
   UnhideWhenUsed="false" QFormat="true" Name="Quote"/>
  <w:LsdException Locked="false" Priority="30" SemiHidden="false"
   UnhideWhenUsed="false" QFormat="true" Name="Intense Quote"/>
  <w:LsdException Locked="false" Priority="66" SemiHidden="false"
   UnhideWhenUsed="false" Name="Medium List 2 Accent 1"/>
  <w:LsdException Locked="false" Priority="67" SemiHidden="false"
   UnhideWhenUsed="false" Name="Medium Grid 1 Accent 1"/>
  <w:LsdException Locked="false" Priority="68" SemiHidden="false"
   UnhideWhenUsed="false" Name="Medium Grid 2 Accent 1"/>
  <w:LsdException Locked="false" Priority="69" SemiHidden="false"
   UnhideWhenUsed="false" Name="Medium Grid 3 Accent 1"/>
  <w:LsdException Locked="false" Priority="70" SemiHidden="false"
   UnhideWhenUsed="false" Name="Dark List Accent 1"/>
  <w:LsdException Locked="false" Priority="71" SemiHidden="false"
   UnhideWhenUsed="false" Name="Colorful Shading Accent 1"/>
  <w:LsdException Locked="false" Priority="72" SemiHidden="false"
   UnhideWhenUsed="false" Name="Colorful List Accent 1"/>
  <w:LsdException Locked="false" Priority="73" SemiHidden="false"
   UnhideWhenUsed="false" Name="Colorful Grid Accent 1"/>
  <w:LsdException Locked="false" Priority="60" SemiHidden="false"
   UnhideWhenUsed="false" Name="Light Shading Accent 2"/>
  <w:LsdException Locked="false" Priority="61" SemiHidden="false"
   UnhideWhenUsed="false" Name="Light List Accent 2"/>
  <w:LsdException Locked="false" Priority="62" SemiHidden="false"
   UnhideWhenUsed="false" Name="Light Grid Accent 2"/>
  <w:LsdException Locked="false" Priority="63" SemiHidden="false"
   UnhideWhenUsed="false" Name="Medium Shading 1 Accent 2"/>
  <w:LsdException Locked="false" Priority="64" SemiHidden="false"
   UnhideWhenUsed="false" Name="Medium Shading 2 Accent 2"/>
  <w:LsdException Locked="false" Priority="65" SemiHidden="false"
   UnhideWhenUsed="false" Name="Medium List 1 Accent 2"/>
  <w:LsdException Locked="false" Priority="66" SemiHidden="false"
   UnhideWhenUsed="false" Name="Medium List 2 Accent 2"/>
  <w:LsdException Locked="false" Priority="67" SemiHidden="false"
   UnhideWhenUsed="false" Name="Medium Grid 1 Accent 2"/>
  <w:LsdException Locked="false" Priority="68" SemiHidden="false"
   UnhideWhenUsed="false" Name="Medium Grid 2 Accent 2"/>
  <w:LsdException Locked="false" Priority="69" SemiHidden="false"
   UnhideWhenUsed="false" Name="Medium Grid 3 Accent 2"/>
  <w:LsdException Locked="false" Priority="70" SemiHidden="false"
   UnhideWhenUsed="false" Name="Dark List Accent 2"/>
  <w:LsdException Locked="false" Priority="71" SemiHidden="false"
   UnhideWhenUsed="false" Name="Colorful Shading Accent 2"/>
  <w:LsdException Locked="false" Priority="72" SemiHidden="false"
   UnhideWhenUsed="false" Name="Colorful List Accent 2"/>
  <w:LsdException Locked="false" Priority="73" SemiHidden="false"
   UnhideWhenUsed="false" Name="Colorful Grid Accent 2"/>
  <w:LsdException Locked="false" Priority="60" SemiHidden="false"
   UnhideWhenUsed="false" Name="Light Shading Accent 3"/>
  <w:LsdException Locked="false" Priority="61" SemiHidden="false"
   UnhideWhenUsed="false" Name="Light List Accent 3"/>
  <w:LsdException Locked="false" Priority="62" SemiHidden="false"
   UnhideWhenUsed="false" Name="Light Grid Accent 3"/>
  <w:LsdException Locked="false" Priority="63" SemiHidden="false"
   UnhideWhenUsed="false" Name="Medium Shading 1 Accent 3"/>
  <w:LsdException Locked="false" Priority="64" SemiHidden="false"
   UnhideWhenUsed="false" Name="Medium Shading 2 Accent 3"/>
  <w:LsdException Locked="false" Priority="65" SemiHidden="false"
   UnhideWhenUsed="false" Name="Medium List 1 Accent 3"/>
  <w:LsdException Locked="false" Priority="66" SemiHidden="false"
   UnhideWhenUsed="false" Name="Medium List 2 Accent 3"/>
  <w:LsdException Locked="false" Priority="67" SemiHidden="false"
   UnhideWhenUsed="false" Name="Medium Grid 1 Accent 3"/>
  <w:LsdException Locked="false" Priority="68" SemiHidden="false"
   UnhideWhenUsed="false" Name="Medium Grid 2 Accent 3"/>
  <w:LsdException Locked="false" Priority="69" SemiHidden="false"
   UnhideWhenUsed="false" Name="Medium Grid 3 Accent 3"/>
  <w:LsdException Locked="false" Priority="70" SemiHidden="false"
   UnhideWhenUsed="false" Name="Dark List Accent 3"/>
  <w:LsdException Locked="false" Priority="71" SemiHidden="false"
   UnhideWhenUsed="false" Name="Colorful Shading Accent 3"/>
  <w:LsdException Locked="false" Priority="72" SemiHidden="false"
   UnhideWhenUsed="false" Name="Colorful List Accent 3"/>
  <w:LsdException Locked="false" Priority="73" SemiHidden="false"
   UnhideWhenUsed="false" Name="Colorful Grid Accent 3"/>
  <w:LsdException Locked="false" Priority="60" SemiHidden="false"
   UnhideWhenUsed="false" Name="Light Shading Accent 4"/>
  <w:LsdException Locked="false" Priority="61" SemiHidden="false"
   UnhideWhenUsed="false" Name="Light List Accent 4"/>
  <w:LsdException Locked="false" Priority="62" SemiHidden="false"
   UnhideWhenUsed="false" Name="Light Grid Accent 4"/>
  <w:LsdException Locked="false" Priority="63" SemiHidden="false"
   UnhideWhenUsed="false" Name="Medium Shading 1 Accent 4"/>
  <w:LsdException Locked="false" Priority="64" SemiHidden="false"
   UnhideWhenUsed="false" Name="Medium Shading 2 Accent 4"/>
  <w:LsdException Locked="false" Priority="65" SemiHidden="false"
   UnhideWhenUsed="false" Name="Medium List 1 Accent 4"/>
  <w:LsdException Locked="false" Priority="66" SemiHidden="false"
   UnhideWhenUsed="false" Name="Medium List 2 Accent 4"/>
  <w:LsdException Locked="false" Priority="67" SemiHidden="false"
   UnhideWhenUsed="false" Name="Medium Grid 1 Accent 4"/>
  <w:LsdException Locked="false" Priority="68" SemiHidden="false"
   UnhideWhenUsed="false" Name="Medium Grid 2 Accent 4"/>
  <w:LsdException Locked="false" Priority="69" SemiHidden="false"
   UnhideWhenUsed="false" Name="Medium Grid 3 Accent 4"/>
  <w:LsdException Locked="false" Priority="70" SemiHidden="false"
   UnhideWhenUsed="false" Name="Dark List Accent 4"/>
  <w:LsdException Locked="false" Priority="71" SemiHidden="false"
   UnhideWhenUsed="false" Name="Colorful Shading Accent 4"/>
  <w:LsdException Locked="false" Priority="72" SemiHidden="false"
   UnhideWhenUsed="false" Name="Colorful List Accent 4"/>
  <w:LsdException Locked="false" Priority="73" SemiHidden="false"
   UnhideWhenUsed="false" Name="Colorful Grid Accent 4"/>
  <w:LsdException Locked="false" Priority="60" SemiHidden="false"
   UnhideWhenUsed="false" Name="Light Shading Accent 5"/>
  <w:LsdException Locked="false" Priority="61" SemiHidden="false"
   UnhideWhenUsed="false" Name="Light List Accent 5"/>
  <w:LsdException Locked="false" Priority="62" SemiHidden="false"
   UnhideWhenUsed="false" Name="Light Grid Accent 5"/>
  <w:LsdException Locked="false" Priority="63" SemiHidden="false"
   UnhideWhenUsed="false" Name="Medium Shading 1 Accent 5"/>
  <w:LsdException Locked="false" Priority="64" SemiHidden="false"
   UnhideWhenUsed="false" Name="Medium Shading 2 Accent 5"/>
  <w:LsdException Locked="false" Priority="65" SemiHidden="false"
   UnhideWhenUsed="false" Name="Medium List 1 Accent 5"/>
  <w:LsdException Locked="false" Priority="66" SemiHidden="false"
   UnhideWhenUsed="false" Name="Medium List 2 Accent 5"/>
  <w:LsdException Locked="false" Priority="67" SemiHidden="false"
   UnhideWhenUsed="false" Name="Medium Grid 1 Accent 5"/>
  <w:LsdException Locked="false" Priority="68" SemiHidden="false"
   UnhideWhenUsed="false" Name="Medium Grid 2 Accent 5"/>
  <w:LsdException Locked="false" Priority="69" SemiHidden="false"
   UnhideWhenUsed="false" Name="Medium Grid 3 Accent 5"/>
  <w:LsdException Locked="false" Priority="70" SemiHidden="false"
   UnhideWhenUsed="false" Name="Dark List Accent 5"/>
  <w:LsdException Locked="false" Priority="71" SemiHidden="false"
   UnhideWhenUsed="false" Name="Colorful Shading Accent 5"/>
  <w:LsdException Locked="false" Priority="72" SemiHidden="false"
   UnhideWhenUsed="false" Name="Colorful List Accent 5"/>
  <w:LsdException Locked="false" Priority="73" SemiHidden="false"
   UnhideWhenUsed="false" Name="Colorful Grid Accent 5"/>
  <w:LsdException Locked="false" Priority="60" SemiHidden="false"
   UnhideWhenUsed="false" Name="Light Shading Accent 6"/>
  <w:LsdException Locked="false" Priority="61" SemiHidden="false"
   UnhideWhenUsed="false" Name="Light List Accent 6"/>
  <w:LsdException Locked="false" Priority="62" SemiHidden="false"
   UnhideWhenUsed="false" Name="Light Grid Accent 6"/>
  <w:LsdException Locked="false" Priority="63" SemiHidden="false"
   UnhideWhenUsed="false" Name="Medium Shading 1 Accent 6"/>
  <w:LsdException Locked="false" Priority="64" SemiHidden="false"
   UnhideWhenUsed="false" Name="Medium Shading 2 Accent 6"/>
  <w:LsdException Locked="false" Priority="65" SemiHidden="false"
   UnhideWhenUsed="false" Name="Medium List 1 Accent 6"/>
  <w:LsdException Locked="false" Priority="66" SemiHidden="false"
   UnhideWhenUsed="false" Name="Medium List 2 Accent 6"/>
  <w:LsdException Locked="false" Priority="67" SemiHidden="false"
   UnhideWhenUsed="false" Name="Medium Grid 1 Accent 6"/>
  <w:LsdException Locked="false" Priority="68" SemiHidden="false"
   UnhideWhenUsed="false" Name="Medium Grid 2 Accent 6"/>
  <w:LsdException Locked="false" Priority="69" SemiHidden="false"
   UnhideWhenUsed="false" Name="Medium Grid 3 Accent 6"/>
  <w:LsdException Locked="false" Priority="70" SemiHidden="false"
   UnhideWhenUsed="false" Name="Dark List Accent 6"/>
  <w:LsdException Locked="false" Priority="71" SemiHidden="false"
   UnhideWhenUsed="false" Name="Colorful Shading Accent 6"/>
  <w:LsdException Locked="false" Priority="72" SemiHidden="false"
   UnhideWhenUsed="false" Name="Colorful List Accent 6"/>
  <w:LsdException Locked="false" Priority="73" SemiHidden="false"
   UnhideWhenUsed="false" Name="Colorful Grid Accent 6"/>
  <w:LsdException Locked="false" Priority="19" SemiHidden="false"
   UnhideWhenUsed="false" QFormat="true" Name="Subtle Emphasis"/>
  <w:LsdException Locked="false" Priority="21" SemiHidden="false"
   UnhideWhenUsed="false" QFormat="true" Name="Intense Emphasis"/>
  <w:LsdException Locked="false" Priority="31" SemiHidden="false"
   UnhideWhenUsed="false" QFormat="true" Name="Subtle Reference"/>
  <w:LsdException Locked="false" Priority="32" SemiHidden="false"
   UnhideWhenUsed="false" QFormat="true" Name="Intense Reference"/>
  <w:LsdException Locked="false" Priority="33" SemiHidden="false"
   UnhideWhenUsed="false" QFormat="true" Name="Book Title"/>
  <w:LsdException Locked="false" Priority="37" Name="Bibliography"/>
  <w:LsdException Locked="false" Priority="39" QFormat="true" Name="TOC Heading"/>
 </w:LatentStyles>
</xml><![endif]--><!--[if gte mso 10]>
<style>
 /* Style Definitions */
 table.MsoNormalTable
	{mso-style-name:"Normale Tabelle";
	mso-tstyle-rowband-size:0;
	mso-tstyle-colband-size:0;
	mso-style-noshow:yes;
	mso-style-priority:99;
	mso-style-parent:"";
	mso-padding-alt:0cm 5.4pt 0cm 5.4pt;
	mso-para-margin-top:0cm;
	mso-para-margin-right:0cm;
	mso-para-margin-bottom:10.0pt;
	mso-para-margin-left:0cm;
	line-height:115%;
	mso-pagination:widow-orphan;
	font-size:11.0pt;
	font-family:"Calibri","sans-serif";
	mso-ascii-font-family:Calibri;
	mso-ascii-theme-font:minor-latin;
	mso-hansi-font-family:Calibri;
	mso-hansi-theme-font:minor-latin;
	mso-fareast-language:EN-US;}
</style>
<![endif]-->

<p class="MsoNoSpacing"><b style="mso-bidi-font-weight:normal"><span style="font-size:12.0pt;mso-bidi-font-size:11.0pt;mso-fareast-language:DE">In
meinen beliebten Study Weeks kommst du mit deinem Pferd richtig voran!</span></b></p>

<p class="MsoNoSpacing"><b style="mso-bidi-font-weight:normal"><span style="font-size:12.0pt;mso-bidi-font-size:11.0pt;mso-fareast-language:DE"></span></b>Ganz individuell
coache ich dich nach deinen Bedürfnissen zusammen mit <u>nur zwei bis drei
weiteren Teilnehmer/innen</u><i>. <b>Diese Woche&nbsp; ist geeignet mit Vorkenntnissen Level 3 und für BesitzerInnen mit Pferden mit speziellen Bedürfnissen (min. Level 1 Kenntnisse!).&nbsp;</b></i></p><p class="MsoNoSpacing"><i><b>Für die fortgeschrittenen TeilnehmerInnen ist es interessant, die Unterstützung bei einem Pferd mit Herausforderungen beobachten zu können und für BesitzerInnen von eher schwierigeren Pferden eine Chance zu lernen, wie man den eigenen Level voranbringt und dem Pferd hilft, sich mehr wie ein Partner zu verhalten. Die Level von Mensch und Pferd können hier unterschiedlich hoch sein und man lernt von den unterschiedlichsten Situation.</b><br></i></p><p class="MsoNoSpacing"><i></i><br><i></i></p>

<p class="MsoNoSpacing"><span style="mso-fareast-language:DE"></span><b style="mso-bidi-font-weight:normal"><span style="mso-fareast-language:DE">Welcome Drink</span></b><span style="mso-fareast-language:
DE"> mit Vorstellrunde und Besprechung deiner Ziele und Anliegen am ersten Abend.</span></p>



<p class="MsoNoSpacing"><b style="mso-bidi-font-weight:normal"><span style="mso-fareast-language:DE">Erlebe eine maßgeschneiderte Private-Coaching-Woche</span></b><span style="mso-fareast-language:DE"> in der Kleingruppe in Theorie, Psychologie,
Simulationen und Praxis. Die Praxis findet ebenfalls in der Kleingruppe und/oder teilweise auch abwechslungsweise einzeln statt:</span></p>



<ul><li><span style="font-family:Symbol;
mso-fareast-font-family:Symbol;mso-bidi-font-family:Symbol;mso-fareast-language:
DE"><span style="mso-list:Ignore"><span style="font:7.0pt &quot;Times New Roman&quot;"></span></span></span><span style="mso-fareast-language:DE">fördere dich und dein Pferd mental, emotional und physisch. Ideal auch bei besonderen Herausforderungen und für
Pferde mit speziellen Bedürfnissen</span></li></ul>



<ul><li><span style="mso-fareast-language:DE">Vertiefung deines Wissens über die&nbsp; "Horsenality" deines Pferdes und eures gemeinsamen
Potentials</span></li></ul>

<ul><li><span style="mso-fareast-language:DE"></span><span style="mso-fareast-language:DE">auf Wunsch
bereite ich dich auf eine offizielle Levelabnahme vor und du hast Zugang zu
meiner gesamten Parelli Bibliothek <br></span></li></ul>



<ul><li><span style="font-family:Symbol;
mso-fareast-font-family:Symbol;mso-bidi-font-family:Symbol;mso-fareast-language:
DE"><span style="mso-list:Ignore"><span style="font:7.0pt &quot;Times New Roman&quot;"></span></span></span><span style="mso-fareast-language:DE">Austausch
bei einem gemeinsamen Abendessen<br></span></li></ul><ul><li><span style="mso-fareast-language:DE">individueller
Trainingsplan für Zuhause (Nachbetreuung mit Video-Coaching inklusive)</span></li></ul><ul><li><span style="mso-fareast-language:DE">Unterrichtsdauer pro Tag bei <font color="#FF9900"><span style="mso-tab-count:1"></span>drei <span style="mso-spacerun:yes">&nbsp;</span></font>Personen: <span style="mso-tab-count:
1">3</span> Stunden (idR am Vormittag von 09h - 12h)</span><span style="mso-fareast-language:DE"></span></li><li><span style="mso-fareast-language:DE">Unterrichtsdauer pro Tag bei <font color="#FF9900">vier&nbsp; </font>Personen: <span style="mso-tab-count:1"></span>3 Stunden + <span style="mso-spacerun:yes"></span>Bonus-Session (einzeln oder Gruppe)</span></li></ul>

<p class="MsoNoSpacing"><span style="mso-fareast-language:DE">&nbsp;</span></p>

<p class="MsoNoSpacing"><span style="mso-fareast-language:DE">Deine <b style="mso-bidi-font-weight:normal">Freizeit</b> gestaltest du nach Lust und
Laune:</span></p>

<p class="MsoNoSpacing"><span style="mso-fareast-language:DE">Im Sommer im
Liegestuhl auf der Koppel Theorie studieren oder relaxen, während dein Pferd
zufrieden grast. Am Vormittag Unterricht und am Nachmittag üben, Wellness, einen Ausritt durch das
wunderschöne <a href="http://www.ferienregion-allgaeu.de" title="Allgäu" target="_blank"><font color="#009900">Allgäu</font></a><a href="http://www.ferienregion-allgaeu.de/sehenswuerdigkeiten_wolfegg.html" target="_blank" title="Allgäu"><span style="color:blue"> </span></a>genießen oder einen Kulturausflug in die
bezaubernden umliegenden Städtchen und/oder unsere herrlichen Badeseen oder Thermen.</span></p>

<p class="MsoNoSpacing"><span style="mso-fareast-language:DE">&nbsp;</span></p>

<p class="MsoNoSpacing"><font color="#000066"><u><b style="mso-bidi-font-weight:normal"><span style="font-size: 14pt;">Kosten pro Woche<br></span></b></u></font></p>

<p class="MsoNoSpacing"><b style="mso-bidi-font-weight:normal"><span style="font-size:12.0pt;mso-bidi-font-size:11.0pt;mso-fareast-language:DE">459,- € für Member inkl. MwSt. (regulär 519,- €) pro Person bei
Teilnahme von 3 und max. 4 Personen<font color="#FF6600"> mit Pferd</font></span></b></p>

<p class="MsoNoSpacing"><b style="mso-bidi-font-weight:normal"><span style="font-size:12.0pt;mso-bidi-font-size:11.0pt;mso-fareast-language:DE">199,- € für Member inkl. MwSt. (regulär 229,- €) pro Person</span></b><b style="mso-bidi-font-weight:normal"><span style="font-size:12.0pt;mso-bidi-font-size:11.0pt;mso-fareast-language:DE"> für
Teilnahme <span style="color:#E46C0A;mso-themecolor:accent6;mso-themeshade:
191;mso-style-textfill-fill-color:#E46C0A;mso-style-textfill-fill-themecolor:
accent6;mso-style-textfill-fill-alpha:100.0%;mso-style-textfill-fill-colortransforms:
lumm=75000"><font color="#FF6600">ohne Pferd</font>&nbsp; </span>- max. 3 Personen</span></b>

</p>

<p class="MsoNoSpacing"><span style="mso-fareast-language:DE">Als Member hast du folgende <a href="http://ursula-schuster.com/member-werden-und-profitieren/" title="Vorteile Member" target="_blank"><b><font color="#009900">weitere Vorteile</font></b></a>.<br></span></p><p class="MsoNoSpacing"><span style="mso-fareast-language:DE">Auf Anfrage stehen
auch Leihpferde zur Verfügung – Kosten auf Anfrage</span></p>



<p class="MsoNoSpacing"><span style="mso-fareast-language:DE">&nbsp;</span></p>

<p class="MsoNoSpacing"><u><font color="#000066"><b style="mso-bidi-font-weight:normal"><span style="font-size: 14pt;">Nebenkosten</span></b></font></u></p>

<p class="MsoNoSpacing"><span style="mso-fareast-language:DE"></span><b style="mso-bidi-font-weight:normal"><span style="mso-fareast-language:DE">Unterkunft für dein Pferd:</span></b></p>

<p class="MsoNoSpacing"><span style="mso-fareast-language:DE">Die Kosten für die Gästebox und Anlagenutzung am <font color="#009900"><a href="http://www.pferdehoefle.de/" target="_blank" title="Pferdehöfle"><font color="#009900">Pferdehöfle</font> </a></font>betragen 168,- € pro Woche plus MwSt. (Sonntag bis Freitag inkl.
unlimitiertes Bioland Heu, Ausmisten, Paddockauslauf, Gästekoppel und Anlagenutzung!).</span></p>

<p class="MsoNoSpacing"><span style="mso-fareast-language:DE">Das Pferdehöfle
bietet dir in sehr freundlicher familiärer Atmosphäre einen Außenreitplatz,
Halle, Roundpen, einen kleinen Playground sowie große Koppeln, die wir bei
angemessenen Bodenverhältnissen nutzen können. <br></span></p>

<p class="MsoNoSpacing"><span style="mso-fareast-language:DE">Im kleinen Reiterstübchen
gibt es für dich kostenlos Kaffee, Tee und kleine Snacks.</span></p><span style="mso-fareast-language:DE">&nbsp; <br></span>

<p class="MsoNoSpacing"><b style="mso-bidi-font-weight:normal"><span style="mso-fareast-language:DE">Unterkunft für dich:</span></b></p>

<p class="MsoNoSpacing">Hier findest du
eine Übersicht für eine mögliche<span style="color:#009900"> <a href="http://web4.deskline.net/wolfeggti/de/accommodation/list" title="Wolfegg Unterkunft" target="_blank"><font color="#009900">Unterkunft</font></a><a href="http://www.wolfegg.de/de/tourismus-freizeit/unterkuenfte/ferienwohnungen.html" target="_blank" title="Wolfegg Unterkunft">&nbsp;</a><a href="http://www.wolfegg.de/de/tourismus-freizeit/unterkuenfte/ferienwohnungen.html"><span style="color:blue"> </span></a></span>für dich in Wolfegg oder nutze Airbnb. Auf Wunsch können sich Teilnehmer auch eine FeWo teilen, bei Interesse bitte melden.</p><p class="MsoNoSpacing"><br></p><p class="MsoNoSpacing"><font color="#cc6600"><b>Die „Gratis“-Kennzeichnung im Anmeldeformular ist zu ignorieren (computertechnischer Grund durch Rechnungsstellung über anderes System). Es gelten die Angaben in dieser Ausschreibung!</b></font></p><p class="MsoNoSpacing"><br></p>

<p class="MsoNormal"><span style="mso-fareast-language:DE"><b><a href="https://ursula-schuster.com/kurskonditionen/" title="Konditionen" target="_blank"><font color="#009900">Bitte beachte die Teilnahmebedingungen</font></a><font color="#009900"><br></font></b></span></p>
DTSTART:20220902T220000Z
DTEND:20220907T220000Z
END:VEVENT
END:VCALENDAR