BEGIN:VCALENDAR
VERSION:2.0
PRODID:http://www.4else.com
BEGIN:VEVENT
UID:7eaa08865025cf1c9bd5ba3455e01e0a
ORGANIZER:CN=""
LOCATION:Online
SUMMARY:Onlineseminar ChatGPT - Anwendung für Senioren
DESCRIPTION:<h3 data-start="512" data-end="568">Kurs: Einstieg in ChatGPT – Anwendung für Senioren</h3><div><br></div>
<p data-start="569" data-end="657">In diesem Online-Seminar lernen Sie, wie Sie ChatGPT im Alltag sinnvoll nutzen können:</p>
<ul data-start="658" data-end="811">
<li data-start="658" data-end="702">
<p data-start="660" data-end="702">Texte verfassen und Informationen finden</p>
</li>
<li data-start="703" data-end="748">
<p data-start="705" data-end="748">Briefe, Rezepte oder Recherchen erstellen</p>
</li>
<li data-start="749" data-end="811">
<p data-start="751" data-end="811">Fragen stellen und Antworten in einfacher Sprache erhalten</p>
</li>
</ul>
<p data-start="813" data-end="1009">Der Kurs ist speziell für Einsteiger konzipiert und zeigt Schritt für Schritt, wie Sie sicher mit der Anwendung umgehen. Keine Vorkenntnisse nötig – nur Neugier und Freude am Ausprobieren.</p>
<p data-start="1011" data-end="1156"><strong data-start="1011" data-end="1022">Format:</strong> Online-Seminar (Zoom)<br data-start="1044" data-end="1047">
<strong data-start="1047" data-end="1057">Dauer:</strong> 1,5 Stunden<br data-start="1069" data-end="1072">
<strong data-start="1072" data-end="1087">Zielgruppe:</strong> Seniorinnen und Senioren, die digitale Helfer kennenlernen möchten</p>
DTSTART:20251121T080000Z
DTEND:20251121T093000Z
END:VEVENT
END:VCALENDAR