BEGIN:VCALENDAR
VERSION:2.0
PRODID:http://www.4else.com
BEGIN:VEVENT
UID:906dd7c5e1f98f20d1e29c5fe44ff032
ORGANIZER:CN="Freizeitwerkstatt des Gemeinnützigen Frauenvereins Bülach, Bea Cornaz"
LOCATION:Freizeitwerkstatt beim ref. Kirchgemeindehaus, Grampenweg 5, Bülach (Anbau neben Parkplatz) 
SUMMARY:Korb flechten mit Weide F21-kor
DESCRIPTION:<div>Nach den traditionellen Flechttechniken flechten Sie einen runden, einfachen Korb aus ungeschälter Weide. Je nach Wunsch hat er Lochgriffe oder einen einfachen Holzgriff. So erhalten Sie einen kleinen Einblick in das alte Handwerk.<br></div><div>**********************************************************************************************<br><div><b>Für Erwachsene und Jugendliche ab 16 Jahren</b></div><div><b><br></b></div><b>Kurstag </b>Montag</div><div><div style=""><div style=""><div style=""><div><b>Dauer&nbsp; &nbsp; &nbsp;</b>1x 7<b>&nbsp;</b>Stunden<br></div><div><b>Kurs-Nr</b>. F21-kor</div><div><br></div><div>**********************************************************************************************</div></div><div style=""><b><br></b></div></div></div></div><div><b>Kosten&nbsp;CHF 100.– exkl. Material</b></div><div><b><br></b></div><div><div style=""><div style="min-height: 18px;"><b style="font-family: Arial, Helvetica, sans-serif; font-size: 15px; font-style: normal; font-variant-ligatures: normal; font-variant-caps: normal; font-weight: 400;">Leitung </b><b style="font-family: Arial, Helvetica, sans-serif; font-size: 15px; font-style: normal; font-variant-ligatures: normal; font-variant-caps: normal;">Ursula Probst,</b><b style="font-family: Arial, Helvetica, sans-serif; font-size: 15px; font-style: normal; font-variant-ligatures: normal; font-variant-caps: normal; font-weight: 400;">&nbsp;</b>Korbflechterin EFZ</div><div style="font-family: Arial, Helvetica, sans-serif; font-size: 15px; font-style: normal; font-variant-ligatures: normal; font-variant-caps: normal; font-weight: 400; min-height: 18px;"><b><br></b></div></div><div style="font-style: normal; font-variant-ligatures: normal; font-variant-caps: normal; font-size: 15px; font-family: Arial, Helvetica, sans-serif;"><b style="">Infos:</b><b style="font-weight: 400;">&nbsp; </b>Materialkosten ca. CHF&nbsp; 25.-&nbsp;</div></div><div style="font-style: normal; font-variant-ligatures: normal; font-variant-caps: normal; font-weight: 400; font-size: 15px; font-family: Arial, Helvetica, sans-serif;"><b><br></b></div><div><div style="font-style: normal; font-variant-ligatures: normal; font-variant-caps: normal; font-weight: 400; font-size: 15px; font-family: Arial, Helvetica, sans-serif; min-height: 18px; background-color: rgb(245, 243, 248);"><font face="Arial, sans-serif"><i><b>ACHTUNG:&nbsp;</b></i></font></div><div style="font-style: normal; font-variant-ligatures: normal; font-variant-caps: normal; font-weight: 400; font-size: 15px; font-family: Arial, Helvetica, sans-serif; min-height: 18px; background-color: rgb(245, 243, 248);">Im letzten Feld des Anmeldeformulars "<b>teilnehmen als</b>" steht das Wort "gratis". Das ist eine softwaretechnische Neuerung, die nicht behoben werden kann. Die Kurskosten sind ganz normal,&nbsp;<b>vor&nbsp;</b>dem Kurs, zu überweisen.&nbsp;</div><div><br></div><div><div style="font-style: normal; font-variant-ligatures: normal; font-variant-caps: normal; font-weight: 400; font-size: 15px; font-family: Arial, Helvetica, sans-serif; min-height: 18px;"><br></div></div></div><div><p class="MsoNormal"><b><span style="font-size: 11.5pt; line-height: 107%; font-family: Arial, sans-serif; border-width: 1pt; border-style: none; border-color: windowtext; padding: 0cm; background-image: initial; background-position: initial; background-size: initial; background-repeat: initial; background-attachment: initial; background-origin: initial; background-clip: initial;">Mit Ihrer
Anmeldung akzeptieren Sie die Teilnahmebedingungen:</span></b><o:p></o:p></p><p class="MsoNormal"><b><span style="font-size: 11.5pt; line-height: 107%; font-family: Arial, sans-serif; border-width: 1pt; border-style: none; border-color: windowtext; padding: 0cm; background-image: initial; background-position: initial; background-size: initial; background-repeat: initial; background-attachment: initial; background-origin: initial; background-clip: initial;"><a href="http://www.frauenverein-buelach.ch/freizeitwerkstatt/teilnahmebedingungen/" title="" target="">http://www.frauenverein-buelach.ch/freizeitwerkstatt/teilnahmebedingungen/</a><br></span></b></p></div>
DTSTART:20210531T063000Z
DTEND:20210531T143000Z
END:VEVENT
END:VCALENDAR