BEGIN:VCALENDAR
VERSION:2.0
PRODID:http://www.4else.com
BEGIN:VEVENT
UID:754c23b45896622a8f6998a3c8bab91c
ORGANIZER:CN="PASSION"
LOCATION:Reithalle KRV Aarau, Schwimmbadstrasse, Aarau, Schweiz
SUMMARY:Tickets Sonntag | PASSION Pferdewelt 2026
DESCRIPTION:<p class="MsoNormal" style="margin: 0cm 0cm 8pt; line-height: 18.4px;"><span style="font-size: 16px;"><b>PASSION EXPO Pferdewelt 2026</b></span></p><p class="MsoNormal" style="margin: 0cm 0cm 8pt; line-height: 18.4px;"><i><span style="font-size: 16px;">16.–18. Oktober 2026 -&nbsp;</span><span style="font-size: 16px;">Rennbahn Aarau</span></i></p><p class="MsoNormal" style="margin: 0cm 0cm 8pt; line-height: 18.4px;"><span style="font-size: 16px;"><b><br></b></span></p><p class="MsoNormal" style="margin: 0cm 0cm 8pt; line-height: 18.4px;"><span style="font-size: 16px;"><b>Die PASSION EXPO Pferdewelt ist der neue Treffpunkt für alle, die Pferde nicht nur reiten, sondern verstehen wollen.</b></span></p><p class="MsoNormal" style="margin: 0cm 0cm 8pt; line-height: 18.4px;"><span style="font-size: 16px;">Freu Dich auf drei Tage voller Inspiration, Wissen und echter Begegnungen:</span></p><p class="MsoNormal" style="margin: 0cm 0cm 8pt; line-height: 18.4px;"></p><ul><li><span style="font-size: 16px;">Live-Trainings &amp; Vorführungen</span></li><li><span style="font-size: 16px;">Spannende Einblicke von Profis</span></li><li><span style="font-size: 16px;">Aussteller &amp; Angebote rund ums Pferd</span></li><li><span style="font-size: 16px;">Austausch mit Gleichgesinnten</span></li></ul><p></p><p class="MsoNormal" style="margin: 0cm 0cm 8pt; line-height: 18.4px;"><span style="font-size: 16px;">Ob Einsteiger oder erfahrener Pferdemensch: hier steht die Verbindung zum Pferd im Mittelpunkt.</span></p><p class="MsoNormal" style="margin: 0cm 0cm 8pt; line-height: 18.4px;"><span style="font-size: 16px;"><b><br></b></span></p><p class="MsoNormal" style="margin: 0cm 0cm 8pt; line-height: 18.4px;"><span style="font-size: 16px;"><b>Ticketoptionen</b></span></p><p class="MsoNormal" style="margin: 0cm 0cm 8pt; line-height: 18.4px;"></p><ul><li><span style="font-size: 16px;">Freitag (14:00 - 20:00 Uhr):&nbsp; &nbsp; CHF&nbsp; &nbsp;9.-<a href="https://www.4else.com/de/4itcwj9ky" title="" target="_blank"> (Hier anmelden)&nbsp;</a></span></li><li><span style="font-size: 16px;">Samstag (09.00 - 19:00 Uhr): CHF 15.– <a href="https://www.4else.com/de/4v4ig58t6" title="" target="_blank">(Hier anmelden)&nbsp;</a></span></li><li><font color="#cc6600"><span style="font-weight: bold; font-size: 16px;">Sonntag (09:00 - 17:00 Uhr):&nbsp; CHF 15.–&nbsp;</span><span style="font-family: Arial, Helvetica, sans-serif; font-size: 16px; font-style: normal; font-variant-ligatures: normal; font-variant-caps: normal;">unten anmelden</span></font></li><li><span style="font-size: 16px;">Kombi Samstag &amp; Sonntag:&nbsp; &nbsp; CHF 26.–<a href="https://www.4else.com/de/4r1uzsfiy" title="" target="_blank"> (Hier anmelden)&nbsp;</a></span></li></ul><span style="font-size: 16px;"><i><br></i></span><ul><li><i style="font-size: 16px;"><b>Kinder</b>: bis 12 Jahre gratis (ab Schulalter mit Ausweis) in Begleitung eines Erwachsenen</i></li><li><i style="font-size: 16px;">Kurz vor Schluss,an der Kasse: <b>Abendticket</b> (letzte Stunde): CHF 5.–</i></li></ul><p></p><p class="MsoNormal" style="margin: 0cm 0cm 8pt; line-height: 18.4px;"><span style="font-size: 16px;">Sichere Dir jetzt Dein Ticket und sei Teil dieser besonderen Messe.</span></p>
DTSTART:20261018T070000Z
DTEND:20261018T150000Z
END:VEVENT
END:VCALENDAR