BEGIN:VCALENDAR
VERSION:2.0
PRODID:http://www.4else.com
BEGIN:VEVENT
UID:873192a20f10e70ae32250db21cc24d0
ORGANIZER:CN=""
LOCATION:Weiterbildungszentrum Elisabeth Frei, Im Berg 2, 8259 Wagenhausen, Schweiz
SUMMARY:Erkenne Deine Ressourcen – und setze sie erfolgreich ein!
DESCRIPTION:<p class="MsoNormal" style="font-style: normal; font-variant-ligatures: normal; font-variant-caps: normal; font-weight: 400; font-size: 15px; font-family: Arial, Helvetica, sans-serif;"><b>Weiterbildungs-Workshop für Berufsleute aus dem Pferdeumfeld</b></p><p class="MsoNormal" style="font-style: normal; font-variant-ligatures: normal; font-variant-caps: normal; font-weight: 400; font-size: 15px; font-family: Arial, Helvetica, sans-serif;">An diesem intensiven Arbeitstag wirst Du wertvolle Impulse für Deinen Berufsalltag erhalten:</p><p class="MsoNormal" style="margin-left: 18pt; font-style: normal; font-variant-ligatures: normal; font-variant-caps: normal; font-weight: 400; font-size: 15px; font-family: Arial, Helvetica, sans-serif;"></p><ul style="font-style: normal; font-variant-ligatures: normal; font-variant-caps: normal; font-weight: 400; font-size: 15px; font-family: Arial, Helvetica, sans-serif;"><li>Du wirst Dir Deiner Stärken bewusster und weisst, wie Du sie einsetzen kannst<br></li><li>Deine individuelle Positionierung wird Dir klarer<br></li><li>Du bekommst einfach umsetzbare Vorschläge, wie Du Dein Business auf den nächsten Level bringst<br></li><li>Du wirst Dir bewusster, wo Deine Energien im Moment hinfliessen und wo sie in Zukunft hinfliessen werden<br></li><li>Dein Onlineauftritt entspricht Deiner Positionierung und zieht die richtigen Kunden an<br></li><li>Du lernst entspannter mit den Möglichkeiten und Grenzen in Deinem Business umzugehen</li></ul><div style="font-style: normal; font-variant-ligatures: normal; font-variant-caps: normal; font-weight: 400; font-size: 15px; font-family: Arial, Helvetica, sans-serif;"><b><br></b></div><div style="font-style: normal; font-variant-ligatures: normal; font-variant-caps: normal; font-weight: 400; font-size: 15px; font-family: Arial, Helvetica, sans-serif;"><b>ARBEITSFORM</b></div><div style="font-style: normal; font-variant-ligatures: normal; font-variant-caps: normal; font-weight: 400; font-size: 15px; font-family: Arial, Helvetica, sans-serif;"><p class="MsoNormal"></p><ul><li>Praktische Übungen mit anschliessender Anleitung, wie die Erkenntnisse ins eigene Marketing einfliessen können<br></li><li>in Kleingruppe: Persönliches Coaching<br></li><li>in Kleingruppe: Optimierung des eigenen Marketings</li><li>Geführtes Entdecken der eigenen Möglichkeiten</li><li>Als Teil des persönlichen Entwicklungsprozesses erstellt sich jeder seine Kursdokumentation selber (Schreibzeug mitbringen!)<br></li></ul><p></p><p class="MsoNormal"><o:p></o:p></p></div><div style="font-style: normal; font-variant-ligatures: normal; font-variant-caps: normal; font-weight: 400; font-size: 15px; font-family: Arial, Helvetica, sans-serif;"><b><br></b></div><div style="font-style: normal; font-variant-ligatures: normal; font-variant-caps: normal; font-weight: 400; font-size: 15px; font-family: Arial, Helvetica, sans-serif;"><b>KURSLEITERINNEN</b></div><div style="font-style: normal; font-variant-ligatures: normal; font-variant-caps: normal; font-weight: 400; font-size: 15px; font-family: Arial, Helvetica, sans-serif;"><br></div><div style="font-style: normal; font-variant-ligatures: normal; font-variant-caps: normal; font-weight: 400; font-size: 15px; font-family: Arial, Helvetica, sans-serif;"><b><a href="http://www.freizeit-reitlehrer.ch" title="Freizeit-Reitlehrer" target="_blank">Elisabeth Frei</a></b>&nbsp;bietet in ihrem&nbsp;<i>Weiterbildungszentrum für Mensch und Pferd</i>&nbsp;eine berufsbegleitende Weiterbildung zum professionellen FreitZeitReitlehrer an. Im Workshop wird sie Dich dank ihrer grossen Erfahrung kompetent und feinfühlig anleiten, Deine Ressourcen besser zu erkennen und einzusetzen.</div><div style="font-style: normal; font-variant-ligatures: normal; font-variant-caps: normal; font-weight: 400; font-size: 15px; font-family: Arial, Helvetica, sans-serif;"><br></div><div style="font-style: normal; font-variant-ligatures: normal; font-variant-caps: normal; font-weight: 400; font-size: 15px; font-family: Arial, Helvetica, sans-serif;"><b><a href="https://www.4my.horse/pferdefreund/beatrice-hohl" title="Beatrice Hohl" target="_blank">Beatrice Hohl</a>&nbsp;</b>ist die treibende Kraft hinter dem Pferdeportal 4my.horse und unterstützt praxiserfahren und ideenreich 'Pferdeprofis' in ihrem Onlinemarketing.&nbsp;</div><div style="font-style: normal; font-variant-ligatures: normal; font-variant-caps: normal; font-weight: 400; font-size: 15px; font-family: Arial, Helvetica, sans-serif;"><br></div><div style="font-style: normal; font-variant-ligatures: normal; font-variant-caps: normal; font-weight: 400; font-size: 15px; font-family: Arial, Helvetica, sans-serif;"><br></div><div style="font-style: normal; font-variant-ligatures: normal; font-variant-caps: normal; font-weight: 400; font-size: 15px; font-family: Arial, Helvetica, sans-serif;"><b>KURSKOSTEN</b></div><div style="font-style: normal; font-variant-ligatures: normal; font-variant-caps: normal; font-weight: 400; font-size: 15px; font-family: Arial, Helvetica, sans-serif;"><br></div><div style="font-style: normal; font-variant-ligatures: normal; font-variant-caps: normal; font-weight: 400; font-size: 15px; font-family: Arial, Helvetica, sans-serif;"><ul><li>CHF 450.00&nbsp;<br></li><li>inkl. Gutschein im Wert von CHF 99.00 für ein Werbebanner auf 4my.horse<br></li><li>inkl. Mittagessen auf dem Hof (Vegetarischer Lunch, Äpfel und gesunde Knabbereien für Zwischendurch, Wasser, Kaffee)</li></ul><div><br></div><div><b>ANFAHRT ZUM KURSORT</b></div></div><div style="font-style: normal; font-variant-ligatures: normal; font-variant-caps: normal; font-weight: 400; font-size: 15px; font-family: Arial, Helvetica, sans-serif;"><br></div><div style="font-style: normal; font-variant-ligatures: normal; font-variant-caps: normal; font-weight: 400; font-size: 15px; font-family: Arial, Helvetica, sans-serif;">Auto: Das Weiterbildungszentrum ist mit dem Auto gut erreichbar, Parkplätze sind vorhanden</div><div style="font-style: normal; font-variant-ligatures: normal; font-variant-caps: normal; font-weight: 400; font-size: 15px; font-family: Arial, Helvetica, sans-serif;">ÖV: bis Stein am Rhein - wir bieten einen Shuttledienst, bitte melde Dich dazu an</div><div><br></div>
DTSTART:20200201T080000Z
DTEND:20200201T160000Z
END:VEVENT
END:VCALENDAR