BEGIN:VCALENDAR
VERSION:2.0
PRODID:http://www.4else.com
BEGIN:VEVENT
UID:40d2ef4752fea88832c987112c26a73a
ORGANIZER:CN=""
LOCATION:Robinsonspielplatz Effretikon, Kirchweg, Illnau-Effretikon, Schweiz
SUMMARY:Bücherflohmi im Herbst
DESCRIPTION:
DTSTART:20221022T080000Z
DTEND:20221022T140000Z
END:VEVENT
BEGIN:VEVENT
UID:213d9f30ba819e782e2b0d26a3d1e3ff
ORGANIZER:CN=""
LOCATION:Robinsonspielplatz Effretikon, Kirchweg, Illnau-Effretikon, Schweiz
SUMMARY:Bücherflohmi im Herbst
DESCRIPTION:
DTSTART:20221023T080000Z
DTEND:20221023T140000Z
END:VEVENT
END:VCALENDAR