BEGIN:VCALENDAR
VERSION:2.0
PRODID:http://www.4else.com
BEGIN:VEVENT
UID:ece574c7bebf1ddc6385f5dd3062ad57
ORGANIZER:CN="Peter Fröhlich, Klassenlehrer 1b"
LOCATION:Chalet Alig
SUMMARY:Skilager Obersaxen
DESCRIPTION:Verbringe eine tolle Woche im Schnee mit Deinen Klassenkameraden!&nbsp;<div><br></div><div>Nähere Informationen siehe Flyer&nbsp;</div>
DTSTART:20160131T230000Z
DTEND:20160204T230000Z
END:VEVENT
END:VCALENDAR