BEGIN:VCALENDAR
VERSION:2.0
PRODID:http://www.4else.com
BEGIN:VEVENT
UID:ad281938526f37d299c9f63cd991be7a
ORGANIZER:CN=""
LOCATION:bei mir zuhause
SUMMARY:Swapping 
DESCRIPTION:<b><font color="#993333">Klamotten tauschen!</font></b><div><br></div><div>Bringe gut erhaltene Kleider, Schuhe oder Accessoires mit, die Du selbst nicht mehr trägt. Hänge Sie in meiner Stube auf oder lege sie auf die Möbel und den Boden und stöbere dann bei den anderen, ob du etwas Hübsches findest.</div><div><br></div><div>Du kannst alles anprobieren, Dich mit den anderen beraten und einpacken, was Dir gefällt:</div><div><br></div><div>Kein Geld und eigentlich auch kein Tausch, weil niemand etwas nehmen muss, nur weil er etwas hergegeben hat.</div><div><br></div><div><span style="line-height: 1.2em;">Ich werde etwas zum Aperitif bereit halten. Habt Ihr Lust, anschliessend gemeinsam etwas zu Essen? Dann tragt dies doch auch in der Liste ein.</span><br></div>
DTSTART:20160827T170000Z
DTEND:20160827T210000Z
END:VEVENT
END:VCALENDAR