BEGIN:VCALENDAR
VERSION:2.0
PRODID:http://www.4else.com
BEGIN:VEVENT
UID:cca5768709c130123dcc880190175c2b
ORGANIZER:CN="Gruppe Informationsveranstaltung WHO Luzern"
LOCATION:Hotel Schweizerhof Luzern, Zeugheersaal, Schweizerhofquai, 6002 Luzern, Schweiz
SUMMARY:Informationsveranstaltung WHO
DESCRIPTION:<div><br></div><div><p class="MsoNormal"><b><span style="font-size:48.0pt;line-height:115%;color:#558ED5;mso-themecolor:text2;
mso-themetint:153;mso-style-textfill-fill-color:#558ED5;mso-style-textfill-fill-themecolor:
text2;mso-style-textfill-fill-alpha:100.0%;mso-style-textfill-fill-colortransforms:
&quot;lumm=60000 lumo=40000&quot;">WHO</span></b><b><span style="font-size:26.0pt;line-height:115%;color:#558ED5;mso-themecolor:text2;
mso-themetint:153;mso-style-textfill-fill-color:#558ED5;mso-style-textfill-fill-themecolor:
text2;mso-style-textfill-fill-alpha:100.0%;mso-style-textfill-fill-colortransforms:
&quot;lumm=60000 lumo=40000&quot;"> World Health Organisation<o:p></o:p></span></b></p></div><div><b>Soll die Schweiz Ihre Selbstverantwortung und Souveränität an die WHO abtreten?</b></div><div><br></div><div><b><font color="#ff0000">Brauchen wir eine Welt-Gesundheits-Regierung, die über alle Bereiche des Lebens bestimmt? (Gesundheit, soziale Kontakte, Ernährung, Energie, Klima etc.)</font></b></div><div><br></div><div><b>Soll eine private Institution wie die WHO unser ganzes Leben bestimmen?</b></div><div><br></div><div><p class="MsoNormal"><span style="font-size: 12pt; line-height: 115%;">Ende Mai 2024 sollen<b><o:p></o:p></b></span></p>

<p class="MsoNormal"><font color="#ff0000"><b><span style="font-size:12.0pt;line-height:115%">1. die Verschärfungen der
Internationalen Gesundheits</span></b><b><span style="font-size:12.0pt;line-height:115%">vorschriften, IGV und</span></b></font></p>

<p class="MsoNormal"><b><span style="font-size:12.0pt;line-height:115%"><font color="#ff0000">2. der neue Pandemievertrag</font><o:p></o:p></span></b></p>

<p class="MsoNormal"><span style="font-size: 12pt; line-height: 115%;">beschlossen werden. Was beinhalten
diese Vertragswerke konkret&nbsp;</span><span style="font-size: 12pt;">und welche Wirkung entfalten sie?
Darüber informieren:</span></p><p class="MsoNormal"></p><ul><li><b><span style="font-size:12.0pt;line-height:115%">Dr. med. Björn Riggenbach. Präsident
Netzwerk Aletheia –&nbsp;</span></b><b><span style="font-size:12.0pt;line-height:115%">menschenwürdige Medizin und
Wissenschaft</span></b></li><li><b><span style="font-size:12.0pt;line-height:115%">Urs Hans, dipl. Landwirt. 12 Jahre
Kantonsrat Zürich</span></b></li><li><b><span style="font-size:12.0pt;line-height:115%">Dr. iur. Gerald Brei. Rechtsanwalt&nbsp;</span></b></li></ul><p></p><p class="MsoNormal"><span style="font-size: 12pt; line-height: 115%;">







</span></p><p class="MsoNormal"><b><span style="font-size:12.0pt;line-height:115%">&nbsp; &nbsp; &nbsp; &nbsp;Moderation: Istvan Hunter</span></b></p></div><div><ul><li><b>Datum</b>: Samstag, 23. März 2024<br></li><li><b>Einlass: </b>13:00 Uhr / Start: 14:00 Uhr&nbsp; – ca. 18:00 Uhr<br></li><li><b>Ort:</b> Hotel Schweizerhof Luzern, Zeugheersaal, Schweizerhofquai, 6002 Luzern<br></li><li><b>Eintritt</b>: 30.00&nbsp;<i>&nbsp; An Tageskasse nur Barzahlung möglich</i></li></ul></div><div><br></div><div>Für weitere Informationen:&nbsp;<span style="font-family: Arial, Helvetica, sans-serif; font-size: 15px; font-style: normal; font-variant-ligatures: normal; font-variant-caps: normal; font-weight: 400;"><a href="https://www.die-enthusiasten.ch/" title="Zur Webseite" target="_blank">www.die-enthusiasten.ch</a> |</span>&nbsp;Tel: 078 878 09 26</div><div><br></div><div><br></div><div><b><font color="#ff0066">ACHTUNG: Aus technischen Gründen wird diese Ticket Vorverkauf Möglichkeit geschlossen. Wir bitten Sie, weitere Tickets direkt an der Tageskasse zu beziehen.&nbsp;</font></b></div><div><b><font color="#ff0066">Achtung nur Barzahlung möglich. Kasse geöffnet Samstag, 23. März 2024 ab 13:00 Uhr direkt beim Eingang Zeugheersaal, im Hotel Schweizerhof, Luzern.</font></b></div><div><b><font color="#ff0066"><br></font></b></div><div><b><font color="#ff0066">Für weitere Fragen Tel: 078 878 09 26</font></b></div><div><b><font color="#ff0066"><br></font></b></div><div><b><font color="#ff0066">Besten Dank.</font></b></div><div><br></div>
DTSTART:20240323T130000Z
DTEND:20240323T170000Z
END:VEVENT
END:VCALENDAR