BEGIN:VCALENDAR
VERSION:2.0
PRODID:http://www.4else.com
BEGIN:VEVENT
UID:669c0d3d9892cc8696358eacaca8d317
ORGANIZER:CN="Mutter Immerfröhlich"
LOCATION:Waldhütte Hinterholz
SUMMARY:Familientreffen
DESCRIPTION:Wir treffen uns zum jährlichen Familienfest im unkompliziertem Rahmen.
DTSTART:20130126T230000Z
DTEND:20130126T230000Z
END:VEVENT
END:VCALENDAR