BEGIN:VCALENDAR
VERSION:2.0
PRODID:http://www.4else.com
BEGIN:VEVENT
UID:eab429586642b2b5d2de5d41bea3e709
ORGANIZER:CN=""
LOCATION:Robinsonspielplatz Effretikon, Kirchweg, Illnau-Effretikon, Schweiz
SUMMARY:Bücherflohmi im Herbst 23
DESCRIPTION:
DTSTART:20231021T080000Z
DTEND:20231021T140000Z
END:VEVENT
BEGIN:VEVENT
UID:6bcdf6a64f6016e2f540c0b9a11a74b1
ORGANIZER:CN=""
LOCATION:Robinsonspielplatz Effretikon, Kirchweg, Illnau-Effretikon, Schweiz
SUMMARY:Bücherflohmi im Herbst 23
DESCRIPTION:
DTSTART:20231022T080000Z
DTEND:20231022T140000Z
END:VEVENT
END:VCALENDAR